BEGIN:VCALENDAR
VERSION:2.0
PRODID:-//Solent Austin 7 Club - ECPv5.8.1//NONSGML v1.0//EN
CALSCALE:GREGORIAN
METHOD:PUBLISH
X-WR-CALNAME:Solent Austin 7 Club
X-ORIGINAL-URL:https://solent-austin7-club.co.uk
X-WR-CALDESC:Events for Solent Austin 7 Club
BEGIN:VTIMEZONE
TZID:UTC
BEGIN:STANDARD
TZOFFSETFROM:+0000
TZOFFSETTO:+0000
TZNAME:UTC
DTSTART:20220101T000000
END:STANDARD
END:VTIMEZONE
BEGIN:VEVENT
DTSTART;TZID=UTC:20220719T080000
DTEND;TZID=UTC:20220719T170000
DTSTAMP:20260423T163559
CREATED:20220627T191749Z
LAST-MODIFIED:20220627T191749Z
UID:243-1658217600-1658250000@solent-austin7-club.co.uk
SUMMARY:Austin 7 Centenary - Moreton in Marsh  July 19th to 24th
DESCRIPTION:
URL:https://solent-austin7-club.co.uk/event/austin-7-centenary-moreton-in-marsh-july-19th-to-24th/
END:VEVENT
END:VCALENDAR