BEGIN:VCALENDAR
VERSION:2.0
PRODID:-//Solent Austin 7 Club - ECPv5.8.1//NONSGML v1.0//EN
CALSCALE:GREGORIAN
METHOD:PUBLISH
X-WR-CALNAME:Solent Austin 7 Club
X-ORIGINAL-URL:https://solent-austin7-club.co.uk
X-WR-CALDESC:Events for Solent Austin 7 Club
BEGIN:VTIMEZONE
TZID:UTC
BEGIN:STANDARD
TZOFFSETFROM:+0000
TZOFFSETTO:+0000
TZNAME:UTC
DTSTART:20220101T000000
END:STANDARD
END:VTIMEZONE
BEGIN:VEVENT
DTSTART;TZID=UTC:20220913T200000
DTEND;TZID=UTC:20220913T213000
DTSTAMP:20260423T150355
CREATED:20220627T192023Z
LAST-MODIFIED:20220627T192023Z
UID:247-1663099200-1663104600@solent-austin7-club.co.uk
SUMMARY:CLUB NIGHT - Feely Bag
DESCRIPTION:
URL:https://solent-austin7-club.co.uk/event/club-night-feely-bag/
END:VEVENT
END:VCALENDAR