BEGIN:VCALENDAR
VERSION:2.0
PRODID:-//Solent Austin 7 Club - ECPv5.8.1//NONSGML v1.0//EN
CALSCALE:GREGORIAN
METHOD:PUBLISH
X-WR-CALNAME:Solent Austin 7 Club
X-ORIGINAL-URL:https://solent-austin7-club.co.uk
X-WR-CALDESC:Events for Solent Austin 7 Club
BEGIN:VTIMEZONE
TZID:UTC
BEGIN:STANDARD
TZOFFSETFROM:+0000
TZOFFSETTO:+0000
TZNAME:UTC
DTSTART:20220101T000000
END:STANDARD
END:VTIMEZONE
BEGIN:VEVENT
DTSTART;TZID=UTC:20220710T120000
DTEND;TZID=UTC:20220710T160000
DTSTAMP:20260423T163837
CREATED:20220627T191621Z
LAST-MODIFIED:20220627T191621Z
UID:241-1657454400-1657468800@solent-austin7-club.co.uk
SUMMARY:CLUB PICNIC - 50th Anniversary
DESCRIPTION:
URL:https://solent-austin7-club.co.uk/event/club-picnic-50th-anniversary/
END:VEVENT
END:VCALENDAR