BEGIN:VCALENDAR
VERSION:2.0
PRODID:-//Solent Austin 7 Club - ECPv5.8.1//NONSGML v1.0//EN
CALSCALE:GREGORIAN
METHOD:PUBLISH
X-WR-CALNAME:Solent Austin 7 Club
X-ORIGINAL-URL:https://solent-austin7-club.co.uk
X-WR-CALDESC:Events for Solent Austin 7 Club
BEGIN:VTIMEZONE
TZID:UTC
BEGIN:STANDARD
TZOFFSETFROM:+0000
TZOFFSETTO:+0000
TZNAME:UTC
DTSTART:20230101T000000
END:STANDARD
END:VTIMEZONE
BEGIN:VEVENT
DTSTART;TZID=UTC:20230611T110000
DTEND;TZID=UTC:20230611T170000
DTSTAMP:20260423T133843
CREATED:20230326T191317Z
LAST-MODIFIED:20230326T191317Z
UID:267-1686481200-1686502800@solent-austin7-club.co.uk
SUMMARY:Copythorne Fete
DESCRIPTION:
URL:https://solent-austin7-club.co.uk/event/copythorne-fete/
END:VEVENT
END:VCALENDAR